BEGIN:VCALENDAR
VERSION:2.0
PRODID:-//Ville de Percy-en-Normandie - ECPv6.15.20//NONSGML v1.0//EN
CALSCALE:GREGORIAN
METHOD:PUBLISH
X-ORIGINAL-URL:https://percyennormandie.fr
X-WR-CALDESC:Évènements pour Ville de Percy-en-Normandie
REFRESH-INTERVAL;VALUE=DURATION:PT1H
X-Robots-Tag:noindex
X-PUBLISHED-TTL:PT1H
BEGIN:VTIMEZONE
TZID:Europe/Paris
BEGIN:DAYLIGHT
TZOFFSETFROM:+0100
TZOFFSETTO:+0200
TZNAME:CEST
DTSTART:20240331T010000
END:DAYLIGHT
BEGIN:STANDARD
TZOFFSETFROM:+0200
TZOFFSETTO:+0100
TZNAME:CET
DTSTART:20241027T010000
END:STANDARD
BEGIN:DAYLIGHT
TZOFFSETFROM:+0100
TZOFFSETTO:+0200
TZNAME:CEST
DTSTART:20250330T010000
END:DAYLIGHT
BEGIN:STANDARD
TZOFFSETFROM:+0200
TZOFFSETTO:+0100
TZNAME:CET
DTSTART:20251026T010000
END:STANDARD
BEGIN:DAYLIGHT
TZOFFSETFROM:+0100
TZOFFSETTO:+0200
TZNAME:CEST
DTSTART:20260329T010000
END:DAYLIGHT
BEGIN:STANDARD
TZOFFSETFROM:+0200
TZOFFSETTO:+0100
TZNAME:CET
DTSTART:20261025T010000
END:STANDARD
END:VTIMEZONE
BEGIN:VEVENT
DTSTART;VALUE=DATE:20250920
DTEND;VALUE=DATE:20251105
DTSTAMP:20260426T045237
CREATED:20250918T091627Z
LAST-MODIFIED:20251108T113021Z
UID:4735-1758326400-1762300799@percyennormandie.fr
SUMMARY:Exposition : Un Prince sur les pas de ses ancêtres - SAS Albert II de Monaco
DESCRIPTION:Venez découvrir l’exposition autour de SAS Albert II de Monaco suite à sa venue à PERCY-EN-NORMANDIE en avril 2025. \nExposition visible aux horaires d’ouverture de la Mairie.
URL:https://percyennormandie.fr/evenement/exposition-un-prince-sur-les-pas-de-ses-ancetres-sas-albert-ii-de-monaco/
LOCATION:Mairie Percy-en-Normandie\, 2-4 Place cardinal Grente\, PERCY-EN-NORMANDIE\, -\, 50410\, France
ATTACH;FMTTYPE=image/jpeg:https://percyennormandie.fr/wp-content/uploads/2025/09/EXPOSITION-MAIRIE-DE-PERCY-1.jpg
END:VEVENT
BEGIN:VEVENT
DTSTART;TZID=Europe/Paris:20251031T180000
DTEND;TZID=Europe/Paris:20251031T180000
DTSTAMP:20260426T045237
CREATED:20251023T095533Z
LAST-MODIFIED:20251025T092543Z
UID:4832-1761933600-1761933600@percyennormandie.fr
SUMMARY:Heure du conte d'Halloween à VILLEDIEU-LES-POÊLES
DESCRIPTION:Venez frissonner en famille autour d’albums jeunesse. \nSortez vos déguisements ! \nSans inscriptions – À partir de 3 ans.
URL:https://percyennormandie.fr/evenement/heure-du-conte-dhalloween-a-villedieu-les-poeles/
LOCATION:Médiathèque de Villedieu-les-poêles
ATTACH;FMTTYPE=image/jpeg:https://percyennormandie.fr/wp-content/uploads/2025/10/Mediatheque-Heure-du-conte-Halloween-VLP-31-octobre.jpg
END:VEVENT
END:VCALENDAR