BEGIN:VCALENDAR
VERSION:2.0
PRODID:-//Ville de Percy-en-Normandie - ECPv6.15.20//NONSGML v1.0//EN
CALSCALE:GREGORIAN
METHOD:PUBLISH
X-WR-CALNAME:Ville de Percy-en-Normandie
X-ORIGINAL-URL:https://percyennormandie.fr
X-WR-CALDESC:Évènements pour Ville de Percy-en-Normandie
REFRESH-INTERVAL;VALUE=DURATION:PT1H
X-Robots-Tag:noindex
X-PUBLISHED-TTL:PT1H
BEGIN:VTIMEZONE
TZID:Europe/Paris
BEGIN:DAYLIGHT
TZOFFSETFROM:+0100
TZOFFSETTO:+0200
TZNAME:CEST
DTSTART:20240331T010000
END:DAYLIGHT
BEGIN:STANDARD
TZOFFSETFROM:+0200
TZOFFSETTO:+0100
TZNAME:CET
DTSTART:20241027T010000
END:STANDARD
BEGIN:DAYLIGHT
TZOFFSETFROM:+0100
TZOFFSETTO:+0200
TZNAME:CEST
DTSTART:20250330T010000
END:DAYLIGHT
BEGIN:STANDARD
TZOFFSETFROM:+0200
TZOFFSETTO:+0100
TZNAME:CET
DTSTART:20251026T010000
END:STANDARD
BEGIN:DAYLIGHT
TZOFFSETFROM:+0100
TZOFFSETTO:+0200
TZNAME:CEST
DTSTART:20260329T010000
END:DAYLIGHT
BEGIN:STANDARD
TZOFFSETFROM:+0200
TZOFFSETTO:+0100
TZNAME:CET
DTSTART:20261025T010000
END:STANDARD
END:VTIMEZONE
BEGIN:VEVENT
DTSTART;TZID=Europe/Paris:20251105T000000
DTEND;TZID=Europe/Paris:20251122T000000
DTSTAMP:20260426T044801
CREATED:20251023T101640Z
LAST-MODIFIED:20251025T092822Z
UID:4841-1762300800-1763769600@percyennormandie.fr
SUMMARY:Soyons malins\, consommons bien - PERCY-EN-NORMANDIE
DESCRIPTION:Et si nous réduisons nos déchets ? \nExposition – sans inscription – Visible aux horaires d’ouverture de la médiathèque
URL:https://percyennormandie.fr/evenement/exposition-soyons-malins-consommons-bien-percy-en-normandie/
LOCATION:Mairie Percy-en-Normandie\, 2-4 Place cardinal Grente\, PERCY-EN-NORMANDIE\, -\, 50410\, France
ATTACH;FMTTYPE=image/jpeg:https://percyennormandie.fr/wp-content/uploads/2025/10/Mediatheque-Expo-novembre-Percy.jpg
END:VEVENT
BEGIN:VEVENT
DTSTART;TZID=Europe/Paris:20251105T000000
DTEND;TZID=Europe/Paris:20251122T000000
DTSTAMP:20260426T044801
CREATED:20251023T101841Z
LAST-MODIFIED:20251023T101841Z
UID:4845-1762300800-1763769600@percyennormandie.fr
SUMMARY:Le gaspillage alimentaire\, c'est ton affaire - VILLEDIEU-LES-POÊLES
DESCRIPTION:Et si nous réduisons nos déchets ? \nExposition – sans inscription – Visible aux horaires d’ouverture de la médiathèque
URL:https://percyennormandie.fr/evenement/le-gaspillage-alimentaire-cest-ton-affaire-villedieu-les-poeles/
LOCATION:Médiathèque de Villedieu-les-poêles
END:VEVENT
BEGIN:VEVENT
DTSTART;TZID=Europe/Paris:20251105T000000
DTEND;TZID=Europe/Paris:20251123T000000
DTSTAMP:20260426T044801
CREATED:20251023T101112Z
LAST-MODIFIED:20251025T092718Z
UID:4836-1762300800-1763856000@percyennormandie.fr
SUMMARY:Réduction des déchets - PERCY-EN-NORMANDIE
DESCRIPTION:Exposition d’œuvres artistiques réalisées en « récup » par Paul Margoulin\, Jean-René Gauchet et les résidents du Bois-Fleuri lors d’ateliers animés par Macko. \nSans inscription – Visible aux horaires de la médiathèque.
URL:https://percyennormandie.fr/evenement/exposition-reduction-des-dechets-percy-en-normandie/
LOCATION:Médiathèque de Percy\, 6 Rue Gustave Blouet\, Percy-en-Normandie\, 50410\, France
ATTACH;FMTTYPE=image/jpeg:https://percyennormandie.fr/wp-content/uploads/2025/10/Mediatheque-Exposition-Recupart-novembre.jpg
END:VEVENT
BEGIN:VEVENT
DTSTART;TZID=Europe/Paris:20251108T000000
DTEND;TZID=Europe/Paris:20251121T000000
DTSTAMP:20260426T044801
CREATED:20251023T102331Z
LAST-MODIFIED:20251025T093030Z
UID:4851-1762560000-1763683200@percyennormandie.fr
SUMMARY:Exposition de cigar boxes - VILLEDIEU-LES-POÊLES
DESCRIPTION:Et si nous réduisions nos déchets ? \nJacques Corre\, « luthier sauvage »\, présente une quarantaine d’instruments\, fabriqués à partir de matériaux de récupération \nExposition – sans inscription – Visible aux horaires d’ouverture de la médiathèque
URL:https://percyennormandie.fr/evenement/exposition-de-cigar-boxes-villedieu-les-poeles/
LOCATION:Médiathèque de Villedieu-les-poêles
ATTACH;FMTTYPE=image/jpeg:https://percyennormandie.fr/wp-content/uploads/2025/10/Mediatheque-Exposition-guitars-box.jpg
END:VEVENT
BEGIN:VEVENT
DTSTART;VALUE=DATE:20251111
DTEND;VALUE=DATE:20251215
DTSTAMP:20260426T044801
CREATED:20251108T112802Z
LAST-MODIFIED:20251108T113143Z
UID:4904-1762819200-1765756799@percyennormandie.fr
SUMMARY:Exposition des Caporaux de Souain
DESCRIPTION:Les Caporaux de Souain : Histoire d’un sacrifice. \nExposition visible aux horaires de la Mairie. \nCelle-ci est prêtée par la mairie de SARTILLY BAIE BOCAGE.
URL:https://percyennormandie.fr/evenement/exposition-des-caporaux-de-souain/
LOCATION:Mairie Percy-en-Normandie\, 2-4 Place cardinal Grente\, PERCY-EN-NORMANDIE\, -\, 50410\, France
ATTACH;FMTTYPE=image/jpeg:https://percyennormandie.fr/wp-content/uploads/2025/11/Exposition-des-Caporaux.jpg
END:VEVENT
BEGIN:VEVENT
DTSTART;TZID=Europe/Paris:20251120T190000
DTEND;TZID=Europe/Paris:20251120T200000
DTSTAMP:20260426T044801
CREATED:20251113T095546Z
LAST-MODIFIED:20251113T095546Z
UID:4917-1763665200-1763668800@percyennormandie.fr
SUMMARY:Rencontre avec Iida Turpeinen Nouvelliste Finlandaise - PERCY-EN-NORMANDIE
DESCRIPTION:Dans le cadre du festival « Les Boréales » : \nAuteure de nouvelles\, elle est surtout connue pour son premier roman Beasts of the Sea\, « À la recherche du vivant  » en français\, qui a été un succès à la fois commercial et critique lors de sa publication.
URL:https://percyennormandie.fr/evenement/rencontre-avec-iida-turpeinen-nouvelliste-finlandaise-percy-en-normandie/
LOCATION:Médiathèque de Percy\, 6 Rue Gustave Blouet\, Percy-en-Normandie\, 50410\, France
ATTACH;FMTTYPE=image/jpeg:https://percyennormandie.fr/wp-content/uploads/2025/10/Mediatheque-Boreales-20-novembre.jpg
END:VEVENT
END:VCALENDAR