BEGIN:VCALENDAR
VERSION:2.0
PRODID:-//Ville de Percy-en-Normandie - ECPv6.15.20//NONSGML v1.0//EN
CALSCALE:GREGORIAN
METHOD:PUBLISH
X-ORIGINAL-URL:https://percyennormandie.fr
X-WR-CALDESC:Évènements pour Ville de Percy-en-Normandie
REFRESH-INTERVAL;VALUE=DURATION:PT1H
X-Robots-Tag:noindex
X-PUBLISHED-TTL:PT1H
BEGIN:VTIMEZONE
TZID:Europe/Paris
BEGIN:DAYLIGHT
TZOFFSETFROM:+0100
TZOFFSETTO:+0200
TZNAME:CEST
DTSTART:20240331T010000
END:DAYLIGHT
BEGIN:STANDARD
TZOFFSETFROM:+0200
TZOFFSETTO:+0100
TZNAME:CET
DTSTART:20241027T010000
END:STANDARD
BEGIN:DAYLIGHT
TZOFFSETFROM:+0100
TZOFFSETTO:+0200
TZNAME:CEST
DTSTART:20250330T010000
END:DAYLIGHT
BEGIN:STANDARD
TZOFFSETFROM:+0200
TZOFFSETTO:+0100
TZNAME:CET
DTSTART:20251026T010000
END:STANDARD
BEGIN:DAYLIGHT
TZOFFSETFROM:+0100
TZOFFSETTO:+0200
TZNAME:CEST
DTSTART:20260329T010000
END:DAYLIGHT
BEGIN:STANDARD
TZOFFSETFROM:+0200
TZOFFSETTO:+0100
TZNAME:CET
DTSTART:20261025T010000
END:STANDARD
END:VTIMEZONE
BEGIN:VEVENT
DTSTART;VALUE=DATE:20251111
DTEND;VALUE=DATE:20251215
DTSTAMP:20260426T030442
CREATED:20251108T112802Z
LAST-MODIFIED:20251108T113143Z
UID:4904-1762819200-1765756799@percyennormandie.fr
SUMMARY:Exposition des Caporaux de Souain
DESCRIPTION:Les Caporaux de Souain : Histoire d’un sacrifice. \nExposition visible aux horaires de la Mairie. \nCelle-ci est prêtée par la mairie de SARTILLY BAIE BOCAGE.
URL:https://percyennormandie.fr/evenement/exposition-des-caporaux-de-souain/
LOCATION:Mairie Percy-en-Normandie\, 2-4 Place cardinal Grente\, PERCY-EN-NORMANDIE\, -\, 50410\, France
ATTACH;FMTTYPE=image/jpeg:https://percyennormandie.fr/wp-content/uploads/2025/11/Exposition-des-Caporaux.jpg
END:VEVENT
BEGIN:VEVENT
DTSTART;TZID=Europe/Paris:20251202T093000
DTEND;TZID=Europe/Paris:20251202T110000
DTSTAMP:20260426T030442
CREATED:20251113T100904Z
LAST-MODIFIED:20251113T100904Z
UID:4929-1764667800-1764673200@percyennormandie.fr
SUMMARY:Bébés lecteurs - PERCY-EN-NORMANDIE
DESCRIPTION:Partagez un moment de douceur avec votre tout-petit\, avec notre animation participative spécialement dédiée aux 0-3ans. \nEn partenariat avec le Relais Petite Enfance de Villedieu Intercom. \nSans-inscription – De 0 à 3 ans.
URL:https://percyennormandie.fr/evenement/bebes-lecteurs-percy-en-normandie/
LOCATION:Médiathèque de Percy\, 6 Rue Gustave Blouet\, Percy-en-Normandie\, 50410\, France
ATTACH;FMTTYPE=image/jpeg:https://percyennormandie.fr/wp-content/uploads/2025/10/Mediatheque-Bebes-lecteurs-Percy-2-decembre.jpg
END:VEVENT
BEGIN:VEVENT
DTSTART;TZID=Europe/Paris:20251202T200000
DTEND;TZID=Europe/Paris:20251202T220000
DTSTAMP:20260426T030442
CREATED:20251127T094022Z
LAST-MODIFIED:20251127T094022Z
UID:5002-1764705600-1764712800@percyennormandie.fr
SUMMARY:Conseil Municipal
DESCRIPTION:Cliquez sur le lien ci-dessous pour visualiser l’ordre du jour : \nhttps://percyennormandie.fr/wp-content/uploads/2025/11/Ordre-du-jour-Conseil-Municipal.pdf
URL:https://percyennormandie.fr/evenement/conseil-municipal-9/
LOCATION:Mairie Percy-en-Normandie\, 2-4 Place cardinal Grente\, PERCY-EN-NORMANDIE\, -\, 50410\, France
ATTACH;FMTTYPE=image/jpeg:https://percyennormandie.fr/wp-content/uploads/2025/11/Conseil-Municipal.jpg
END:VEVENT
END:VCALENDAR