BEGIN:VCALENDAR
VERSION:2.0
PRODID:-//Ville de Percy-en-Normandie - ECPv6.15.20//NONSGML v1.0//EN
CALSCALE:GREGORIAN
METHOD:PUBLISH
X-ORIGINAL-URL:https://percyennormandie.fr
X-WR-CALDESC:Évènements pour Ville de Percy-en-Normandie
REFRESH-INTERVAL;VALUE=DURATION:PT1H
X-Robots-Tag:noindex
X-PUBLISHED-TTL:PT1H
BEGIN:VTIMEZONE
TZID:Europe/Paris
BEGIN:DAYLIGHT
TZOFFSETFROM:+0100
TZOFFSETTO:+0200
TZNAME:CEST
DTSTART:20240331T010000
END:DAYLIGHT
BEGIN:STANDARD
TZOFFSETFROM:+0200
TZOFFSETTO:+0100
TZNAME:CET
DTSTART:20241027T010000
END:STANDARD
BEGIN:DAYLIGHT
TZOFFSETFROM:+0100
TZOFFSETTO:+0200
TZNAME:CEST
DTSTART:20250330T010000
END:DAYLIGHT
BEGIN:STANDARD
TZOFFSETFROM:+0200
TZOFFSETTO:+0100
TZNAME:CET
DTSTART:20251026T010000
END:STANDARD
BEGIN:DAYLIGHT
TZOFFSETFROM:+0100
TZOFFSETTO:+0200
TZNAME:CEST
DTSTART:20260329T010000
END:DAYLIGHT
BEGIN:STANDARD
TZOFFSETFROM:+0200
TZOFFSETTO:+0100
TZNAME:CET
DTSTART:20261025T010000
END:STANDARD
END:VTIMEZONE
BEGIN:VEVENT
DTSTART;VALUE=DATE:20251111
DTEND;VALUE=DATE:20251215
DTSTAMP:20260425T032316
CREATED:20251108T112802Z
LAST-MODIFIED:20251108T113143Z
UID:4904-1762819200-1765756799@percyennormandie.fr
SUMMARY:Exposition des Caporaux de Souain
DESCRIPTION:Les Caporaux de Souain : Histoire d’un sacrifice. \nExposition visible aux horaires de la Mairie. \nCelle-ci est prêtée par la mairie de SARTILLY BAIE BOCAGE.
URL:https://percyennormandie.fr/evenement/exposition-des-caporaux-de-souain/
LOCATION:Mairie Percy-en-Normandie\, 2-4 Place cardinal Grente\, PERCY-EN-NORMANDIE\, -\, 50410\, France
ATTACH;FMTTYPE=image/jpeg:https://percyennormandie.fr/wp-content/uploads/2025/11/Exposition-des-Caporaux.jpg
END:VEVENT
BEGIN:VEVENT
DTSTART;TZID=Europe/Paris:20251204T140000
DTEND;TZID=Europe/Paris:20251204T160000
DTSTAMP:20260425T032316
CREATED:20251127T092444Z
LAST-MODIFIED:20251127T092444Z
UID:4994-1764856800-1764864000@percyennormandie.fr
SUMMARY:Commission de contrôle des listes électorales
DESCRIPTION:La commission de contrôle des listes électorales va se réunir prochainement. \nVeuillez cliquer sur le lien suivant pour voir la convocation de la commission :Affichage convocation commission contrôle liste électorales
URL:https://percyennormandie.fr/evenement/commission-de-controle-des-listes-electorales/
LOCATION:Mairie Percy-en-Normandie\, 2-4 Place cardinal Grente\, PERCY-EN-NORMANDIE\, -\, 50410\, France
END:VEVENT
END:VCALENDAR