BEGIN:VCALENDAR
VERSION:2.0
PRODID:-//Ville de Percy-en-Normandie - ECPv6.15.20//NONSGML v1.0//EN
CALSCALE:GREGORIAN
METHOD:PUBLISH
X-WR-CALNAME:Ville de Percy-en-Normandie
X-ORIGINAL-URL:https://percyennormandie.fr
X-WR-CALDESC:Évènements pour Ville de Percy-en-Normandie
REFRESH-INTERVAL;VALUE=DURATION:PT1H
X-Robots-Tag:noindex
X-PUBLISHED-TTL:PT1H
BEGIN:VTIMEZONE
TZID:Europe/Paris
BEGIN:DAYLIGHT
TZOFFSETFROM:+0100
TZOFFSETTO:+0200
TZNAME:CEST
DTSTART:20240331T010000
END:DAYLIGHT
BEGIN:STANDARD
TZOFFSETFROM:+0200
TZOFFSETTO:+0100
TZNAME:CET
DTSTART:20241027T010000
END:STANDARD
BEGIN:DAYLIGHT
TZOFFSETFROM:+0100
TZOFFSETTO:+0200
TZNAME:CEST
DTSTART:20250330T010000
END:DAYLIGHT
BEGIN:STANDARD
TZOFFSETFROM:+0200
TZOFFSETTO:+0100
TZNAME:CET
DTSTART:20251026T010000
END:STANDARD
BEGIN:DAYLIGHT
TZOFFSETFROM:+0100
TZOFFSETTO:+0200
TZNAME:CEST
DTSTART:20260329T010000
END:DAYLIGHT
BEGIN:STANDARD
TZOFFSETFROM:+0200
TZOFFSETTO:+0100
TZNAME:CET
DTSTART:20261025T010000
END:STANDARD
END:VTIMEZONE
BEGIN:VEVENT
DTSTART;VALUE=DATE:20251224
DTEND;VALUE=DATE:20251225
DTSTAMP:20260426T030137
CREATED:20251222T154541Z
LAST-MODIFIED:20251222T154541Z
UID:5072-1766534400-1766620799@percyennormandie.fr
SUMMARY:Fermeture exceptionnelle de la mairie et de l'Agence Postale
DESCRIPTION:
URL:https://percyennormandie.fr/evenement/fermeture-exceptionnelle-de-la-mairie-et-de-lagence-postale/
LOCATION:Mairie Percy-en-Normandie\, 2-4 Place cardinal Grente\, PERCY-EN-NORMANDIE\, -\, 50410\, France
ATTACH;FMTTYPE=image/jpeg:https://percyennormandie.fr/wp-content/uploads/2025/12/Fermeture-mairie-et-APC-Noel.jpg
END:VEVENT
END:VCALENDAR