BEGIN:VCALENDAR
VERSION:2.0
PRODID:-//Ville de Percy-en-Normandie - ECPv6.15.20//NONSGML v1.0//EN
CALSCALE:GREGORIAN
METHOD:PUBLISH
X-WR-CALNAME:Ville de Percy-en-Normandie
X-ORIGINAL-URL:https://percyennormandie.fr
X-WR-CALDESC:Évènements pour Ville de Percy-en-Normandie
REFRESH-INTERVAL;VALUE=DURATION:PT1H
X-Robots-Tag:noindex
X-PUBLISHED-TTL:PT1H
BEGIN:VTIMEZONE
TZID:Europe/Paris
BEGIN:DAYLIGHT
TZOFFSETFROM:+0100
TZOFFSETTO:+0200
TZNAME:CEST
DTSTART:20250330T010000
END:DAYLIGHT
BEGIN:STANDARD
TZOFFSETFROM:+0200
TZOFFSETTO:+0100
TZNAME:CET
DTSTART:20251026T010000
END:STANDARD
BEGIN:DAYLIGHT
TZOFFSETFROM:+0100
TZOFFSETTO:+0200
TZNAME:CEST
DTSTART:20260329T010000
END:DAYLIGHT
BEGIN:STANDARD
TZOFFSETFROM:+0200
TZOFFSETTO:+0100
TZNAME:CET
DTSTART:20261025T010000
END:STANDARD
BEGIN:DAYLIGHT
TZOFFSETFROM:+0100
TZOFFSETTO:+0200
TZNAME:CEST
DTSTART:20270328T010000
END:DAYLIGHT
BEGIN:STANDARD
TZOFFSETFROM:+0200
TZOFFSETTO:+0100
TZNAME:CET
DTSTART:20271031T010000
END:STANDARD
END:VTIMEZONE
BEGIN:VEVENT
DTSTART;TZID=Europe/Paris:20260207T100000
DTEND;TZID=Europe/Paris:20260207T111500
DTSTAMP:20260424T132159
CREATED:20260130T102304Z
LAST-MODIFIED:20260130T102304Z
UID:5112-1770458400-1770462900@percyennormandie.fr
SUMMARY:Permanence du Maire
DESCRIPTION:Monsieur le Maire vous reçoit sans rendez-vous chaque 1er samedi du mois. \nExceptionnellement le samedi 7 février 2026 de 10h à 11h15.
URL:https://percyennormandie.fr/evenement/permanence-du-maire-16/
LOCATION:Mairie Percy-en-Normandie\, 2-4 Place cardinal Grente\, PERCY-EN-NORMANDIE\, -\, 50410\, France
ATTACH;FMTTYPE=image/jpeg:https://percyennormandie.fr/wp-content/uploads/2026/01/Permanence-du-Maire.jpg
END:VEVENT
BEGIN:VEVENT
DTSTART;TZID=Europe/Paris:20260219T140000
DTEND;TZID=Europe/Paris:20260219T153000
DTSTAMP:20260424T132159
CREATED:20260213T155656Z
LAST-MODIFIED:20260213T155656Z
UID:5135-1771509600-1771515000@percyennormandie.fr
SUMMARY:Commission de contrôle des listes électorales
DESCRIPTION:La commission de contrôle des listes électorales va se réunir prochainement. \nVeuillez cliquez sur le lien suivant pour voir la convocation de la commission : https://percyennormandie.fr/wp-content/uploads/2026/02/Affichage-convocation-commission-de-controle-19-fevrier-2026.pdf
URL:https://percyennormandie.fr/evenement/commission-de-controle-des-listes-electorales-2/
LOCATION:Mairie Percy-en-Normandie\, 2-4 Place cardinal Grente\, PERCY-EN-NORMANDIE\, -\, 50410\, France
END:VEVENT
BEGIN:VEVENT
DTSTART;TZID=Europe/Paris:20260224T200000
DTEND;TZID=Europe/Paris:20260224T220000
DTSTAMP:20260424T132159
CREATED:20260220T104122Z
LAST-MODIFIED:20260221T081436Z
UID:5164-1771963200-1771970400@percyennormandie.fr
SUMMARY:Conseil Municipal
DESCRIPTION:Cliquez sur le lien suivant pour visualiser l’ordre du jour :https://percyennormandie.fr/wp-content/uploads/2026/02/convocation-conseil-municipa-du-24-02-2026.pdf \nVoici un complément à l’ordre du jour : https://percyennormandie.fr/wp-content/uploads/2026/02/Convocation-CM-du-24-02-2026-ODJ-complement.pdf
URL:https://percyennormandie.fr/evenement/conseil-municipal-10/
LOCATION:Mairie Percy-en-Normandie\, 2-4 Place cardinal Grente\, PERCY-EN-NORMANDIE\, -\, 50410\, France
ATTACH;FMTTYPE=image/jpeg:https://percyennormandie.fr/wp-content/uploads/2026/02/Conseil-Municipal.jpg
END:VEVENT
END:VCALENDAR